BEGIN:VCALENDAR
VERSION:2.0
PRODID:-//wp-events-plugin.com//7.0.4//EN
TZID:America/Chicago
X-WR-TIMEZONE:America/Chicago
BEGIN:VEVENT
UID:1-113@creation.cadeio.org
DTSTART;TZID=America/New_York:20210309T161500
DTEND;TZID=America/New_York:20210309T171500
DTSTAMP:20210224T203019Z
URL:https://creation.cadeio.org/events/online-ecumenical-and-interreligiou
 s-guidebook-dialogue-3/
SUMMARY:Online Ecumenical and Interreligious Guidebook Dialogue 3
DESCRIPTION:[vc_row][vc_column][vc_empty_space][vc_row_inner][vc_column_inn
 er][vc_empty_space height="36px" css=".vc_custom_1612544125677{background-
 color: #36850a !important\;}"][vc_column_text css=".vc_custom_161254841954
 7{margin-top: 10px !important\;}"]\n“This guide offers insights into how
  Catholics can bring the riches of the Catholic theological tradition to e
 cumenical and interreligious discussions and actions that uphold the digni
 ty and sanctity of our environment.”\nMost Reverend Joseph C. Bambera\, 
 Bishop of Scranton\nChairman\, Bishops’ Committee on Ecumenical and Inte
 rreligious Affairs\, United States Conference of Catholic Bishops\n[/vc_co
 lumn_text][vc_column_text]\nONLINE DIALOGUE IN CELEBRATION OF THE\nEcumeni
 cal and Interreligious Guidebook:\nCARE FOR OUR COMMON HOME\nJointly publi
 shed by the United States Conference of Catholic Bishops\,\nCatholic Assoc
 iation of Diocesan Ecumenical and Interreligious Officers\, and Catholic C
 limate Covenant\nTUESDAY\, MARCH 9\, 4:15 PM EASTERN TIME\nCLICK HERE TO R
 EGISTER FOR THIS EVENT BELOW!\n\n[/vc_column_text][/vc_column_inner][/vc_r
 ow_inner][/vc_column][/vc_row][vc_row][vc_column][vc_row_inner][vc_column_
 inner][vc_column_text]GUESTS:[/vc_column_text][/vc_column_inner][/vc_row_i
 nner][vc_row_inner][vc_column_inner width="1/4"][vc_single_image image="55
 68" img_size="full"][/vc_column_inner][vc_column_inner width="3/4"][vc_col
 umn_text]MOST REV. JOSEPH TYSON holds degrees in Arts and Journalism\, Int
 ernational Relations and Divinity. He was named an Auxiliary Bishop of Sea
 ttle in 2005 and from 2008-2011\, he served as Superintendent of Catholic 
 Schools. He was installed as Bishop of Yakima in 2011 and currently serves
  as a member of the USCCB’s Committee for Cultural Diversity and Chair o
 f the USCCB’s Pastoral Care for Migrants\, Refugees and Travelers. Bisho
 p Tyson is also the Episcopal Liaison to Catholic Climate Covenant based i
 n Washington\, DC.[/vc_column_text][/vc_column_inner][/vc_row_inner][vc_ro
 w_inner][vc_column_inner width="1/4"][vc_single_image image="5499" img_siz
 e="full"][/vc_column_inner][vc_column_inner width="3/4"][vc_column_text]BI
 SHOP MARC HANDLEY ANDRUS represents the Most Rev. Michael Bruce Curry\, th
 e Presiding Bishop for the Episcopal Church\, at the UN Conference of Part
 ies on Climate Change. Bishop Andrus’ recent Contributions on climate ch
 ange include chapters in The Harmony Debates: Exploring a Practical Philos
 ophy for a Sustainable Future\, and\, Science\, Faith and the Climate Cris
 is.[/vc_column_text][/vc_column_inner][/vc_row_inner][vc_row_inner][vc_col
 umn_inner width="1/4"][vc_single_image image="5498" img_size="full"][/vc_c
 olumn_inner][vc_column_inner width="3/4"][vc_column_text]BISHOP SALLY DYCK
 \, is the Ecumenical Officer of the Council of Bishops of The United Metho
 dist Church. She serves as the President of the General Board of Church an
 d Society for The United Methodist Church. Bishop Dyck is the co-author of
  A Hopeful Earth—Faith\, Science\, and the Message of Jesus.[/vc_column_
 text][/vc_column_inner][/vc_row_inner][vc_row_inner][vc_column_inner width
 ="1/4"][vc_single_image image="5501" img_size="full"][/vc_column_inner][vc
 _column_inner width="3/4"][vc_column_text]REV. ELIZABETH EATON  is the\nEv
 angelical Lutheran Church of America’s presiding bishop. Eaton earned a 
 M.Div from Harvard Divinity School and a BMEd from the College of Wooster.
  She was ordained in 1981. Eaton is married to the Rev. Conrad Selnick\, a
 n Episcopal priest.[/vc_column_text][/vc_column_inner][/vc_row_inner][vc_r
 ow_inner][vc_column_inner width="1/4"][vc_single_image image="5009" img_si
 ze="full"][/vc_column_inner][vc_column_inner width="3/4"][vc_column_text]H
 osted and Facilitated by:\n\nFr. Walter F. Kedjierski\,\nUSCCB\, Executive
  Director\,\nSecretariat of Ecumenical and Interreligious Affairs[/vc_colu
 mn_text][/vc_column_inner][/vc_row_inner][vc_row_inner][vc_column_inner wi
 dth="1/6"][/vc_column_inner][vc_column_inner width="2/3"][vc_single_image 
 image="3879" img_size="full" alignment="center"][/vc_column_inner][vc_colu
 mn_inner width="1/6"][/vc_column_inner][/vc_row_inner][vc_empty_space heig
 ht="36px" css=".vc_custom_1612552668002{background-color: #36850a !importa
 nt\;}"][/vc_column][/vc_row][vc_row][vc_column][vc_column_text]
LOCATION:https://usccb.zoom.us/j/91256762939?pwd=OVY5WXhYdWlwWVJWeDNpZGRsb1
 Rzdz09
END:VEVENT
BEGIN:VTIMEZONE
TZID:America/New_York
X-LIC-LOCATION:America/New_York
BEGIN:STANDARD
DTSTART:20201101T010000
TZOFFSETFROM:-0400
TZOFFSETTO:-0500
TZNAME:EST
END:STANDARD
END:VTIMEZONE
END:VCALENDAR