BEGIN:VCALENDAR
VERSION:2.0
PRODID:-//wp-events-plugin.com//7.0.4//EN
TZID:America/Chicago
X-WR-TIMEZONE:America/Chicago
BEGIN:VEVENT
UID:1-117@creation.cadeio.org
DTSTART;TZID=America/New_York:20210929T110000
DTEND;TZID=America/New_York:20210929T120000
DTSTAMP:20210917T194000Z
URL:https://creation.cadeio.org/events/healing-earth-dialogue/
SUMMARY:Healing Earth Dialogue
DESCRIPTION:Event Title: AN ONLINE DIALOGUE ABOUT HEALING EARTH\n\nEvent Da
 te: 09 - 29- 2021\n\nEvent Time: 11:00 AM - NOON (ET)\n\nEvent URL: https:
 //us02web.zoom.us/j/89652032076?pwd=Q0RFMDVwaXlqOEFTRTRuV2NtMXAzQT09\n
LOCATION:https://us02web.zoom.us/j/89652032076?pwd=Q0RFMDVwaXlqOEFTRTRuV2Nt
 MXAzQT09
END:VEVENT
BEGIN:VTIMEZONE
TZID:America/New_York
X-LIC-LOCATION:America/New_York
BEGIN:DAYLIGHT
DTSTART:20210314T030000
TZOFFSETFROM:-0500
TZOFFSETTO:-0400
TZNAME:EDT
END:DAYLIGHT
END:VTIMEZONE
END:VCALENDAR