BEGIN:VCALENDAR
VERSION:2.0
PRODID:-//wp-events-plugin.com//7.0.4//EN
TZID:America/Chicago
X-WR-TIMEZONE:America/Chicago
BEGIN:VEVENT
UID:1-118@creation.cadeio.org
DTSTART;TZID=America/New_York:20210922T110000
DTEND;TZID=America/New_York:20210922T120000
DTSTAMP:20210917T193827Z
URL:https://creation.cadeio.org/events/faith-for-earth-dialogue/
SUMMARY:Faith for Earth Dialogue
DESCRIPTION:Event Title: AN ONLINE DIALOGUE ABOUT FAITH FOR EARTH: A CALL F
 OR ACTION\n\nEvent Date: 09 - 22- 2021\n\nEvent Time: 11:00 AM - NOON (ET)
 \n\nEvent URL: https://us02web.zoom.us/j/85435288120?pwd=VDFUZHVDQ0NCWjQ0b
 3FETHRmcS9UZz09
LOCATION:https://us02web.zoom.us/j/85435288120?pwd=VDFUZHVDQ0NCWjQ0b3FETHRm
 cS9UZz09
END:VEVENT
BEGIN:VTIMEZONE
TZID:America/New_York
X-LIC-LOCATION:America/New_York
BEGIN:DAYLIGHT
DTSTART:20210314T030000
TZOFFSETFROM:-0500
TZOFFSETTO:-0400
TZNAME:EDT
END:DAYLIGHT
END:VTIMEZONE
END:VCALENDAR