BEGIN:VCALENDAR
VERSION:2.0
PRODID:-//wp-events-plugin.com//7.0.4//EN
TZID:America/Chicago
X-WR-TIMEZONE:America/Chicago
BEGIN:VEVENT
UID:1-115@creation.cadeio.org
DTSTART;TZID=America/New_York:20210901T110000
DTEND;TZID=America/New_York:20210901T120000
DTSTAMP:20210608T115559Z
URL:https://creation.cadeio.org/events/care-for-our-common-home-interrelig
 ious-dialogue/
SUMMARY:Care for Our Common Home Interreligious Dialogue
DESCRIPTION:[vc_row][vc_column][vc_empty_space][vc_row_inner][vc_column_inn
 er][vc_empty_space height="36px" css=".vc_custom_1612544125677{background-
 color: #36850a !important\;}"][vc_column_text css=".vc_custom_161254841954
 7{margin-top: 10px !important\;}"]\n“This guide offers insights into how
  Catholics can bring the riches of the Catholic theological tradition to e
 cumenical and interreligious discussions and actions that uphold the digni
 ty and sanctity of our environment.”\nMost Reverend Joseph C. Bambera\, 
 Bishop of Scranton\nChairman\, Bishops’ Committee on Ecumenical and Inte
 rreligious Affairs\, United States Conference of Catholic Bishops\n[/vc_co
 lumn_text][vc_column_text]\nONLINE DIALOGUE IN CELEBRATION OF THE\nEcumeni
 cal and Interreligious Guidebook:\nCARE FOR OUR COMMON HOME\nJointly publi
 shed by the United States Conference of Catholic Bishops\,\nCatholic Assoc
 iation of Diocesan Ecumenical and Interreligious Officers\, and Catholic C
 limate Covenant\nWEDNESDAY\, SEPTEMBER 1\, 11:00 AM - 12 NOON EASTERN TIME
 \nCLICK HERE TO REGISTER FOR THIS EVENT BELOW!\n\n[/vc_column_text][/vc_co
 lumn_inner][/vc_row_inner][/vc_column][/vc_row][vc_row][vc_column][vc_row_
 inner][vc_column_inner][vc_column_text]GUESTS:[/vc_column_text][/vc_column
 _inner][/vc_row_inner][vc_row_inner][vc_column_inner width="1/4"][vc_singl
 e_image image="6227" img_size="full"][/vc_column_inner][vc_column_inner wi
 dth="3/4"][vc_column_text]MANOHAR SINGH GREWAL\, SCD is a trustee of Parli
 ament of World’s Religions and founding member of its Climate Action Tas
 k Force. Dr. Grewal served as president of the World Sikh Organization\, c
 hairperson of World Sikh Council -American Region and is the founder and f
 ormer president of the New England Sikh Study Circle.[/vc_column_text][/vc
 _column_inner][/vc_row_inner][vc_row_inner][vc_column_inner width="1/4"][v
 c_single_image image="6226" img_size="full"][/vc_column_inner][vc_column_i
 nner width="3/4"][vc_column_text]GOPAL D. PATEL is Co-Founder and Director
  of Bhumi Global\, a non-profit organization that works to educate and mob
 ilize Hindu communities globally for environmental action. For over 10 yea
 rs he has spearheaded the development of environmental initiatives engagin
 g religious communities and leaders in India\, East Africa\, Europe and No
 rth America.[/vc_column_text][/vc_column_inner][/vc_row_inner][vc_row_inne
 r][vc_column_inner width="1/4"][vc_single_image image="6225" img_size="ful
 l"][/vc_column_inner][vc_column_inner width="3/4"][vc_column_text]DR. BHIK
 KHU DHAMMADIPA SAK\, Abbot of US Zen Institute (Maryland\, USA) and Wisdom
  Temple (Billerica\, MA)\, is a scholar of early Mahãyãna and Theravãda
  Buddhism. He insists that\, though the meditation method is Buddhist\, th
 e practice to love and to empathize is beyond all limits and boundaries. T
 o better serve this mission\, he is building a meditation center near Wash
 ington DC.[/vc_column_text][/vc_column_inner][/vc_row_inner][vc_row_inner]
 [vc_column_inner width="1/4"][vc_single_image image="6224" img_size="full"
 ][/vc_column_inner][vc_column_inner width="3/4"][vc_column_text]DR. ANTHON
 Y CIRELLI has been Associate Director of the Secretariat for Ecumenical an
 d Interreligious Affairs at the U.S. Conference of Catholic Bishops since 
 2011. Dr. Cirelli is the principal staffer for all interreligious dialogue
 s of the bishops\, as well as the Reformed-Catholic ecumenical dialogue. H
 e received his Ph.D. in 2008.[/vc_column_text][/vc_column_inner][/vc_row_i
 nner][vc_row_inner][vc_column_inner width="1/4"][vc_single_image image="50
 09" img_size="full"][/vc_column_inner][vc_column_inner width="3/4"][vc_col
 umn_text]Hosted and Facilitated by:\n\nFr. Walter F. Kedjierski\,\nUSCCB\,
  Executive Director\,\nSecretariat of Ecumenical and Interreligious Affair
 s[/vc_column_text][/vc_column_inner][/vc_row_inner][vc_row_inner][vc_colum
 n_inner width="1/6"][/vc_column_inner][vc_column_inner width="2/3"][vc_sin
 gle_image image="3879" img_size="full" alignment="center"][/vc_column_inne
 r][vc_column_inner width="1/6"][/vc_column_inner][/vc_row_inner][vc_empty_
 space height="36px" css=".vc_custom_1612552668002{background-color: #36850
 a !important\;}"][/vc_column][/vc_row][vc_row][vc_column][vc_column_text]
LOCATION:https://usccb.zoom.us/j/99415260848?pwd=VFNmL1hzME1ROVFxcW1oSXNFa1
 NpUT09
END:VEVENT
BEGIN:VTIMEZONE
TZID:America/New_York
X-LIC-LOCATION:America/New_York
BEGIN:DAYLIGHT
DTSTART:20210314T030000
TZOFFSETFROM:-0500
TZOFFSETTO:-0400
TZNAME:EDT
END:DAYLIGHT
END:VTIMEZONE
END:VCALENDAR