BEGIN:VCALENDAR
VERSION:2.0
PRODID:-//wp-events-plugin.com//7.0.4//EN
TZID:America/Chicago
X-WR-TIMEZONE:America/Chicago
BEGIN:VEVENT
UID:1-114@creation.cadeio.org
DTSTART;TZID=America/New_York:20210729T110000
DTEND;TZID=America/New_York:20210729T120000
DTSTAMP:20210629T130508Z
URL:https://creation.cadeio.org/events/care-for-our-common-home-ecumenical
 -dialogue/
SUMMARY:Care for Our Common Home Ecumenical Dialogue
DESCRIPTION:[vc_row][vc_column][vc_empty_space][vc_row_inner][vc_column_inn
 er][vc_empty_space height="36px" css=".vc_custom_1612544125677{background-
 color: #36850a !important\;}"][vc_column_text css=".vc_custom_161254841954
 7{margin-top: 10px !important\;}"]\n“This guide offers insights into how
  Catholics can bring the riches of the Catholic theological tradition to e
 cumenical and interreligious discussions and actions that uphold the digni
 ty and sanctity of our environment.”\nMost Reverend Joseph C. Bambera\, 
 Bishop of Scranton\nChairman\, Bishops’ Committee on Ecumenical and Inte
 rreligious Affairs\, United States Conference of Catholic Bishops\n[/vc_co
 lumn_text][vc_column_text]\nONLINE ECUMENICAL DIALOGUE IN CELEBRATION OF T
 HE\nEcumenical and Interreligious Guidebook:\nCARE FOR OUR COMMON HOME\nJo
 intly published by the United States Conference of Catholic Bishops\,\nCat
 holic Association of Diocesan Ecumenical and Interreligious Officers\, and
  Catholic Climate Covenant\nTHURSDAY\, JULY 29\, 11:00 AM - 12 NOON EASTER
 N TIME\nCLICK HERE TO REGISTER FOR THIS EVENT BELOW!\n\n[/vc_column_text][
 /vc_column_inner][/vc_row_inner][/vc_column][/vc_row][vc_row][vc_column][v
 c_row_inner][vc_column_inner][vc_column_text]GUESTS:[/vc_column_text][/vc_
 column_inner][/vc_row_inner][vc_row_inner][vc_column_inner width="1/4"][vc
 _single_image image="6219" img_size="full"][/vc_column_inner][vc_column_in
 ner width="3/4"][vc_column_text]REV. DR. KAREN GEORGIA A. THOMPSON is the 
 Associate General Minister for Wider Church Ministries and Operations in t
 he United Church of Christ and Co-Executive for Global Ministries with the
  United Church of Christ and the Christian Church (Disciples of Christ). S
 he is an inspiring preacher and theologian\, who shares her skills and gif
 ts in a variety of settings nationally and internationally\, often using h
 er poetry as a part of her ministry.[/vc_column_text][/vc_column_inner][/v
 c_row_inner][vc_row_inner][vc_column_inner width="1/4"][vc_single_image im
 age="6221" img_size="full"][/vc_column_inner][vc_column_inner width="3/4"]
 [vc_column_text]DR. JESSICA MOERMAN is a climate and environmental scienti
 st\, church planter\, educator\, and advocate. She serves as the Senior Di
 rector for Science and Policy at the Evangelical Environmental Network. Je
 ssica received her Ph.D. in Earth and Atmospheric Sciences from the Georgi
 a Institute of Technology and co-founded Grace Capital City church in Wash
 ington\, DC.[/vc_column_text][/vc_column_inner][/vc_row_inner][vc_row_inne
 r][vc_column_inner width="1/4"][vc_single_image image="6222" img_size="ful
 l"][/vc_column_inner][vc_column_inner width="3/4"][vc_column_text]MICHAEL 
 TERRIEN\, OBL. OSB chairs the Catholic Association of Diocesan Ecumenical 
 and Interreligious Officers Care for Creation Committee. He serves on the 
 Vatican’s Laudato Si’ Action Platform Parishes and Dioceses Working Gr
 oup and directs the Archdiocese of Chicago’s Care for Creation Ministry.
  Michael is a trustee of the Parliament of the World’s Religions and fou
 nding member of its Climate Action Task Force.[/vc_column_text][/vc_column
 _inner][/vc_row_inner][vc_row_inner][vc_column_inner width="1/4"][vc_singl
 e_image image="6220" img_size="full"][/vc_column_inner][vc_column_inner wi
 dth="3/4"][vc_column_text]REV. DENNIS TESTERMAN  currently serves as natio
 nal moderator and member of Presbyterians for Earth Care steering committe
 e. He is a novice in the Order of Ecumenical Franciscans. His sense of pla
 ce is rooted in his family’s circa-1789 Appalachian mountain cove farm i
 n Northeast Tennessee on the land of the Cherokee.[/vc_column_text][/vc_co
 lumn_inner][/vc_row_inner][vc_row_inner][vc_column_inner width="1/4"][vc_s
 ingle_image image="5009" img_size="full"][/vc_column_inner][vc_column_inne
 r width="3/4"][vc_column_text]Hosted and Facilitated by:\n\nFr. Walter F. 
 Kedjierski\,\nUSCCB\, Executive Director\,\nSecretariat of Ecumenical and 
 Interreligious Affairs[/vc_column_text][/vc_column_inner][/vc_row_inner][v
 c_row_inner][vc_column_inner width="1/6"][/vc_column_inner][vc_column_inne
 r width="2/3"][vc_single_image image="3879" img_size="full" alignment="cen
 ter"][/vc_column_inner][vc_column_inner width="1/6"][/vc_column_inner][/vc
 _row_inner][vc_empty_space height="36px" css=".vc_custom_1612552668002{bac
 kground-color: #36850a !important\;}"][/vc_column][/vc_row][vc_row][vc_col
 umn][vc_column_text]
LOCATION:https://usccb.zoom.us/j/98018882918?pwd=dTI5NGFpYWFpSFlRVGtwSUNyQ0
 xiZz09
END:VEVENT
BEGIN:VTIMEZONE
TZID:America/New_York
X-LIC-LOCATION:America/New_York
BEGIN:DAYLIGHT
DTSTART:20210314T030000
TZOFFSETFROM:-0500
TZOFFSETTO:-0400
TZNAME:EDT
END:DAYLIGHT
END:VTIMEZONE
END:VCALENDAR