BEGIN:VCALENDAR
VERSION:2.0
PRODID:-//wp-events-plugin.com//7.0.4//EN
TZID:America/Chicago
X-WR-TIMEZONE:America/Chicago
BEGIN:VEVENT
UID:1-110@creation.cadeio.org
DTSTART;TZID=America/Chicago:20210220T090000
DTEND;TZID=America/Chicago:20210220T120000
DTSTAMP:20210130T184421Z
URL:https://creation.cadeio.org/events/buddhist-catholic-dialogue-on-clima
 te-change/
SUMMARY:BUDDHIST-CATHOLIC DIALOGUE ON CLIMATE CHANGE
DESCRIPTION:[vc_row][vc_column][vc_row_inner][vc_column_inner][vc_empty_spa
 ce css=".vc_custom_1612021467802{background-color: #0ca94b !important\;}"]
 [/vc_column_inner][/vc_row_inner][vc_row_inner css=".vc_custom_16119377419
 93{margin-top: 10px !important\;}"][vc_column_inner width="1/2"][vc_single
 _image image="5194" img_size="full" alignment="center"][/vc_column_inner][
 vc_column_inner width="1/2"][vc_single_image image="5195" img_size="full" 
 alignment="center"][/vc_column_inner][/vc_row_inner][vc_row_inner][vc_colu
 mn_inner][vc_empty_space height="20px"][vc_column_text]\nBUDDHIST-CATHOLIC
  DIALOGUE ON CLIMATE CHANGE\nFEBRUARY RETREAT\nDeepening our Awareness of 
 Love\, Compassion\nand Joy for the Healing of the World\n[/vc_column_text]
 [vc_separator color="black"][vc_column_text]\nSaturday\, February 20\, 202
 1\n9:00 AM - 12:00 PM\, Central Time\n[/vc_column_text][vc_separator color
 ="black"][/vc_column_inner][/vc_row_inner][vc_column_text]\nFACILITATED BY
 \n[/vc_column_text][vc_row_inner][vc_column_inner width="1/2"][vc_single_i
 mage image="5272" img_size="medium" alignment="center"][vc_column_text]\nV
 en. Dr. Dhammadipa Sak\nAbbot of US Zen Institute\n[/vc_column_text][/vc_c
 olumn_inner][vc_column_inner width="1/2"][vc_single_image image="5273" img
 _size="medium" alignment="center"][vc_column_text]\nSister Pat Bergen\, CS
 J\nEducator\, Spiritual\nDirectress\, Retreat Facilitator\n[/vc_column_tex
 t][/vc_column_inner][/vc_row_inner][vc_row_inner][vc_column_inner width="1
 /4"][/vc_column_inner][vc_column_inner width="1/2"][vc_column_text css=".v
 c_custom_1612032258018{margin-top: 40px !important\;margin-right: 40px !im
 portant\;margin-bottom: 40px !important\;margin-left: 40px !important\;bor
 der-top-width: 10px !important\;border-right-width: 20px !important\;borde
 r-bottom-width: 10px !important\;border-left-width: 20px !important\;paddi
 ng-top: 20px !important\;padding-right: 10px !important\;padding-bottom: 1
 0px !important\;padding-left: 10px !important\;background-color: #25408f !
 important\;border-left-color: #0ca94b !important\;border-left-style: solid
  !important\;border-right-color: #0ca94b !important\;border-right-style: s
 olid !important\;border-top-color: #0ca94b !important\;border-top-style: s
 olid !important\;border-bottom-color: #0ca94b !important\;border-bottom-st
 yle: solid !important\;}"]\nREGISTER TODAY!\n[/vc_column_text][/vc_column_
 inner][vc_column_inner width="1/4"][/vc_column_inner][/vc_row_inner][vc_ro
 w_inner css=".vc_custom_1612025765602{padding-top: 10px !important\;paddin
 g-right: 10px !important\;padding-bottom: 10px !important\;padding-left: 1
 0px !important\;background-color: #0ca94b !important\;}"][vc_column_inner]
 [vc_column_text]\nLearn More at ParliamentOfReligions.org\n[/vc_column_tex
 t][/vc_column_inner][/vc_row_inner][/vc_column][/vc_row]
LOCATION:https://us02web.zoom.us/meeting/register/tZEpce-tqjotH92SNOv7n2y1F
 VT2LGYsLaDp
END:VEVENT
BEGIN:VTIMEZONE
TZID:America/Chicago
X-LIC-LOCATION:America/Chicago
BEGIN:STANDARD
DTSTART:20201101T010000
TZOFFSETFROM:-0500
TZOFFSETTO:-0600
TZNAME:CST
END:STANDARD
END:VTIMEZONE
END:VCALENDAR