BEGIN:VCALENDAR
VERSION:2.0
PRODID:-//wp-events-plugin.com//7.0.4//EN
TZID:America/Chicago
X-WR-TIMEZONE:America/Chicago
BEGIN:VEVENT
UID:113-105@creation.cadeio.org
DTSTART;TZID=America/New_York:20201008T090000
DTEND;TZID=America/New_York:20201008T140000
DTSTAMP:20200928T184521Z
URL:https://creation.cadeio.org/diocese-of-brooklyn/events/the-climate-cri
 sis-and-%ef%bb%bfnew-york-faith-communities/
SUMMARY:The Climate Crisis and ﻿New York Faith Communities
DESCRIPTION:\nRegistration is now open for the\n38th Rabbi Marshall T. Meye
 r Retreat for Social Justice\n\nThe Climate Crisis and\nNew York Faith Com
 munities \nThursday\, October 8th\, 9:00 am to 2:00 pm EST\nREGISTER TODA
 Y\nThe climate crisis poses an existential threat to New York City\, and i
 ndeed to our entire world. Global warming\, sea-level rise\, devastating s
 torms\, and the many other effects of carbon pollution are an imminent thr
 eat to public health\, food and water security\, and the sustainable devel
 opment of human societies. Marginalized communities in New York and elsewh
 ere are uniquely vulnerable\, as they face a future of displacement and di
 slocation. This conference will catalyze much-needed action\, by exploring
  the role of faith-based organizations in confronting the climate crisis.\
 n\nJoin us on Zoom on October 8. The conference will include:\n\n\n 	keyno
 te panel featuring Karenna Gore\, Center for Earth Ethics at Union Theolog
 ical Seminary\; Peggy Shepard\, WE ACT for Environmental Justice\; and Dan
 iel Zarilli\, NYC's Chief Climate Policy Advisor and Director of OneNYC\n 
 	multifaith panel discussion\, featuring diverse spiritual perspectives on
  the climate crisis\n 	townhall discussion and small group dialogues focus
 ed on concrete steps faith leaders can take\n 	multifaith ritual celebrati
 ng New York’s rivers\, and the city's ties to the natural world\n\nFor d
 etailed information and registration\,\nvisit interfaithcenter.org/mmr38.\
 nContact Hanadi Doleh at hanadi@interfaithcenter.org with any questions.
END:VEVENT
BEGIN:VTIMEZONE
TZID:America/New_York
X-LIC-LOCATION:America/New_York
BEGIN:DAYLIGHT
DTSTART:20200308T030000
TZOFFSETFROM:-0500
TZOFFSETTO:-0400
TZNAME:EDT
END:DAYLIGHT
END:VTIMEZONE
END:VCALENDAR