BEGIN:VCALENDAR
VERSION:2.0
PRODID:-//wp-events-plugin.com//7.0.4//EN
TZID:America/Chicago
X-WR-TIMEZONE:America/Chicago
BEGIN:VEVENT
UID:7-104@creation.cadeio.org
DTSTART;TZID=America/Chicago:20200831T190000
DTEND;TZID=America/Chicago:20200831T190000
DTSTAMP:20200824T112226Z
URL:https://creation.cadeio.org/archdiocese-of-chicago/events/sixth-annual
 -world-day-of-prayer-for-the-care-of-creation/
SUMMARY:Sixth Annual World Day of Prayer For the Care of Creation
DESCRIPTION:See Poster here.\n\nOn behalf of the Greek Orthodox Metropolis 
 of Chicago and the Archdiocese of Chicago\, SS Peter and Paul Greek Orthod
 ox Church and Our Lady of Perpetual Help Catholic Church you are cordially
  invited to the\nSIXTH ANNUAL\nWORLD DAY OF PRAYER\nFOR THE CARE OF CREATI
 ON\nMonday\, August 31\, 2020 | 7 p.m. with speaker to follow the Vesper s
 ervice\nSaints Peter and Paul Greek Orthodox Church\n1401 Wagner Road\nGle
 nview\, IL\nAll are invited as the Greek Orthodox and Catholic communities
  of greater Chicagoland to join together for an ecumenical service to give
  thanks for God’s gift of Creation and to recognize the conservation eff
 orts of His disciples.\n\nHis Eminence Metropolitan Nathanael Symeonides w
 ill preside over this special prayer service with Catholic Bishop Mark Bar
 tosic also present\, which will be followed by a lecture from Rev. Fr. Wil
 liam Grogan entitled\, "Laudato Si’\, Climate Change and Health Care: Th
 rough the lens of the encyclical Laudato Si’\, how the moral imperative 
 to mitigate climate change is inextricably connected to human dignity and 
 health care." Fr. Grogan represents the Catholic Archbishop of Chicago.\n\
 nClick this link to register to attend the event: https://ssppglenview.org
 /environmentvespers-signup/
ATTACH;FMTTYPE=image/jpeg:https://creation.cadeio.org/archdiocese-of-chica
 go/wp-content/uploads/sites/7/2020/08/cfc-prayer.jpg
LOCATION:Saints Peter and Paul Greek Orthodox Church\, 1401 Wagner Road\, G
 lenview\, IL\, 60025\, United States
GEO:42.080589;-87.78033
X-APPLE-STRUCTURED-LOCATION;VALUE=URI;X-ADDRESS=1401 Wagner Road\, Glenview
 \, IL\, 60025\, United States;X-APPLE-RADIUS=100;X-TITLE=Saints Peter and 
 Paul Greek Orthodox Church:geo:42.080589,-87.78033
END:VEVENT
BEGIN:VTIMEZONE
TZID:America/Chicago
X-LIC-LOCATION:America/Chicago
BEGIN:DAYLIGHT
DTSTART:20200308T030000
TZOFFSETFROM:-0600
TZOFFSETTO:-0500
TZNAME:CDT
END:DAYLIGHT
END:VTIMEZONE
END:VCALENDAR