BEGIN:VCALENDAR
VERSION:2.0
PRODID:-//wp-events-plugin.com//7.0.4//EN
TZID:America/Chicago
X-WR-TIMEZONE:America/Chicago
BEGIN:VEVENT
UID:7-91@creation.cadeio.org
DTSTART;TZID=America/Chicago:20191004T120000
DTEND;TZID=America/Chicago:20191004T130000
DTSTAMP:20190808T061720Z
URL:https://creation.cadeio.org/archdiocese-of-chicago/events/praying-toge
 ther-for-the-healing-of-our-planet/
SUMMARY:PRAYING TOGETHER FOR THE HEALING OF OUR PLANET
DESCRIPTION:2019.08_pray for planet
LOCATION:St. James Cathedral Commons (corner of Rush and Huron in Chicago)\
 , 65 E Huron St.\, Chicacgo\, Illinois\, 60611\, United States
GEO:41.8945072;-87.62575190000001
X-APPLE-STRUCTURED-LOCATION;VALUE=URI;X-ADDRESS=65 E Huron St.\, Chicacgo\,
  Illinois\, 60611\, United States;X-APPLE-RADIUS=100;X-TITLE=St. James Cat
 hedral Commons (corner of Rush and Huron in Chicago):geo:41.8945072,-87.62
 575190000001
END:VEVENT
BEGIN:VTIMEZONE
TZID:America/Chicago
X-LIC-LOCATION:America/Chicago
BEGIN:DAYLIGHT
DTSTART:20190310T030000
TZOFFSETFROM:-0600
TZOFFSETTO:-0500
TZNAME:CDT
END:DAYLIGHT
END:VTIMEZONE
END:VCALENDAR