BEGIN:VCALENDAR
VERSION:2.0
PRODID:-//wp-events-plugin.com//7.0.4//EN
TZID:America/Chicago
X-WR-TIMEZONE:America/Chicago
BEGIN:VEVENT
UID:7-94@creation.cadeio.org
DTSTART;TZID=America/Chicago:20200305T190000
DTEND;TZID=America/Chicago:20200306T120000
DTSTAMP:20200130T001920Z
URL:https://creation.cadeio.org/archdiocese-of-chicago/events/meyer-lectur
 e-rev-dr-john-chryssavgis/
SUMMARY:Meyer Lecture\, Rev. Dr. John Chryssavgis
DESCRIPTION:\n\nTo register:  https://www.eventbrite.com/e/albert-cardinal
 -meyer-lecture-series-rev-dr-john-chryssavgis-tickets-73343483333?lang=en-
 us&amp\;locale=en_US&amp\;view=domo
LOCATION:University of St Mary of the Lake\, 1000 E Maple Avenue\, Mundelei
 n\, Illinois\, 60060\, United States
GEO:42.2811627;-88.00081549999999
X-APPLE-STRUCTURED-LOCATION;VALUE=URI;X-ADDRESS=1000 E Maple Avenue\, Munde
 lein\, Illinois\, 60060\, United States;X-APPLE-RADIUS=100;X-TITLE=Univers
 ity of St Mary of the Lake:geo:42.2811627,-88.00081549999999
END:VEVENT
BEGIN:VTIMEZONE
TZID:America/Chicago
X-LIC-LOCATION:America/Chicago
BEGIN:STANDARD
DTSTART:20191103T010000
TZOFFSETFROM:-0500
TZOFFSETTO:-0600
TZNAME:CST
END:STANDARD
END:VTIMEZONE
END:VCALENDAR