BEGIN:VCALENDAR
VERSION:2.0
PRODID:-//wp-events-plugin.com//7.0.4//EN
TZID:America/Chicago
X-WR-TIMEZONE:America/Chicago
BEGIN:VEVENT
UID:7-88@creation.cadeio.org
DTSTART;TZID=America/Chicago:20190601T163000
DTEND;TZID=America/Chicago:20190601T173000
DTSTAMP:20190530T153215Z
URL:https://creation.cadeio.org/archdiocese-of-chicago/events/laudato-si-s
 aturday-vigil-mass/
SUMMARY:Laudato si' Saturday Vigil Mass
DESCRIPTION:“The universe unfolds in God\, who fills it completely.” \
 n\nEncyclical Letter Laudato si’ of the Holy Father Francis on Care fo
 r Our Common Home\n\nFr. Joshtrom Isaac Kureethadam\, the Vatican’s Coor
 dinator of theSector Ecology and Creation\, will celebrate St. Nicholas’
  June 1st Saturday Vigil Mass. The Catholic Liturgy will bring to life the
  creation narrative\, further opening our hearts to the beauty of God’s 
 love for all that is His.\nMass will be celebrated in the Parish Garden\n2
 019_Laudato Si’ Mass St. Nicholas
LOCATION:St. Nicholas Catholic Church\, 806 Ridge Ave\, Evanston\, Illinois
 \, 60202\, United States
GEO:42.0323391;-87.68688499999996
X-APPLE-STRUCTURED-LOCATION;VALUE=URI;X-ADDRESS=806 Ridge Ave\, Evanston\, 
 Illinois\, 60202\, United States;X-APPLE-RADIUS=100;X-TITLE=St. Nicholas C
 atholic Church:geo:42.0323391,-87.68688499999996
END:VEVENT
BEGIN:VTIMEZONE
TZID:America/Chicago
X-LIC-LOCATION:America/Chicago
BEGIN:DAYLIGHT
DTSTART:20190310T030000
TZOFFSETFROM:-0600
TZOFFSETTO:-0500
TZNAME:CDT
END:DAYLIGHT
END:VTIMEZONE
END:VCALENDAR