BEGIN:VCALENDAR
VERSION:2.0
PRODID:-//wp-events-plugin.com//7.0.4//EN
TZID:America/Chicago
X-WR-TIMEZONE:America/Chicago
BEGIN:VEVENT
UID:7-93@creation.cadeio.org
DTSTART;TZID=America/Chicago:20190930T190000
DTEND;TZID=America/Chicago:20190930T210000
DTSTAMP:20190831T022014Z
URL:https://creation.cadeio.org/archdiocese-of-chicago/events/caring-for-c
 reation-ethical-and-spiritual-perspectives/
SUMMARY:Caring for Creation:  Ethical and Spiritual Perspectives
DESCRIPTION:Assumption Catholic Church will sponsor a lecture by Rev. Dr. 
 John T. Pawlikowski\, OSM\, Ph.D\, Professor Emeritus of Social Ethics at
  Catholic Theological as part of its programming for  the Season of Creat
 ion.  The lecture\, entitled "Caring for Creation:  Ethical and Spiritu
 al Perspectives" will take place in the parish hall.  Free parking will 
 be available in the parish parking spots in the 311 W. Illinois building.
   Fr. Pawlikowski is the co-editor with Rev .Richard Fragomeni of the bo
 ok THE ECOLOGICAL CHALLENGE (The Liturgical Press).  He served as princip
 al theological consultant for the U.S. Catholic Bishops' Statement on E
 nergy Issues
LOCATION:Assumption Catholic Church\, 323 W. Illinois Street\, Chicago\, Il
 linois\, 60654\, United States
GEO:41.8904825;-87.6364135
X-APPLE-STRUCTURED-LOCATION;VALUE=URI;X-ADDRESS=323 W. Illinois Street\, Ch
 icago\, Illinois\, 60654\, United States;X-APPLE-RADIUS=100;X-TITLE=Assump
 tion Catholic Church:geo:41.8904825,-87.6364135
END:VEVENT
BEGIN:VTIMEZONE
TZID:America/Chicago
X-LIC-LOCATION:America/Chicago
BEGIN:DAYLIGHT
DTSTART:20190310T030000
TZOFFSETFROM:-0600
TZOFFSETTO:-0500
TZNAME:CDT
END:DAYLIGHT
END:VTIMEZONE
END:VCALENDAR