BEGIN:VCALENDAR
VERSION:2.0
PRODID:-//wp-events-plugin.com//7.0.4//EN
TZID:America/Chicago
X-WR-TIMEZONE:America/Chicago
BEGIN:VEVENT
UID:7-100@creation.cadeio.org
DTSTART;TZID=America/Chicago:20200422T100000
DTEND;TZID=America/Chicago:20200422T110000
DTSTAMP:20200415T022409Z
URL:https://creation.cadeio.org/archdiocese-of-chicago/events/archdiocese-
 of-chicago-earth-day-prayer-service/
SUMMARY:Archdiocese of Chicago -- Earth Day Prayer Service
DESCRIPTION:\n\nTo Register\, click link below:  \n\nhttps://forms.office.
 com/Pages/ResponsePage.aspx?id=o-0BRmklpkqOCzBfwpVBLl7PHk5glIBNlfjv9cvoVPZ
 UQkhQOVRUWDhEMDhLUVNOMUtFTUVSVzAwVC4u
LOCATION:Online Zoom Prayer Service\, 735 North State Street\, Chicago\, Il
 linois\, 60654\, United States
GEO:41.895967;-87.627623
X-APPLE-STRUCTURED-LOCATION;VALUE=URI;X-ADDRESS=735 North State Street\, Ch
 icago\, Illinois\, 60654\, United States;X-APPLE-RADIUS=100;X-TITLE=Online
  Zoom Prayer Service:geo:41.895967,-87.627623
END:VEVENT
BEGIN:VTIMEZONE
TZID:America/Chicago
X-LIC-LOCATION:America/Chicago
BEGIN:DAYLIGHT
DTSTART:20200308T030000
TZOFFSETFROM:-0600
TZOFFSETTO:-0500
TZNAME:CDT
END:DAYLIGHT
END:VTIMEZONE
END:VCALENDAR